BEGIN:VCALENDAR
VERSION:2.0
PRODID:-//Nightaffairs - Ticketshop - ECPv6.15.20//NONSGML v1.0//EN
CALSCALE:GREGORIAN
METHOD:PUBLISH
X-WR-CALNAME:Nightaffairs - Ticketshop
X-ORIGINAL-URL:https://tickets.nightaffairs-events.de
X-WR-CALDESC:Veranstaltungen für Nightaffairs - Ticketshop
REFRESH-INTERVAL;VALUE=DURATION:PT1H
X-Robots-Tag:noindex
X-PUBLISHED-TTL:PT1H
BEGIN:VTIMEZONE
TZID:Europe/Berlin
BEGIN:DAYLIGHT
TZOFFSETFROM:+0100
TZOFFSETTO:+0200
TZNAME:CEST
DTSTART:20250330T010000
END:DAYLIGHT
BEGIN:STANDARD
TZOFFSETFROM:+0200
TZOFFSETTO:+0100
TZNAME:CET
DTSTART:20251026T010000
END:STANDARD
BEGIN:DAYLIGHT
TZOFFSETFROM:+0100
TZOFFSETTO:+0200
TZNAME:CEST
DTSTART:20260329T010000
END:DAYLIGHT
BEGIN:STANDARD
TZOFFSETFROM:+0200
TZOFFSETTO:+0100
TZNAME:CET
DTSTART:20261025T010000
END:STANDARD
BEGIN:DAYLIGHT
TZOFFSETFROM:+0100
TZOFFSETTO:+0200
TZNAME:CEST
DTSTART:20270328T010000
END:DAYLIGHT
BEGIN:STANDARD
TZOFFSETFROM:+0200
TZOFFSETTO:+0100
TZNAME:CET
DTSTART:20271031T010000
END:STANDARD
END:VTIMEZONE
BEGIN:VEVENT
DTSTART;TZID=Europe/Berlin:20260430T210000
DTEND;TZID=Europe/Berlin:20260501T040000
DTSTAMP:20260421T114912
CREATED:20260219T164654Z
LAST-MODIFIED:20260219T164654Z
UID:12860-1777582800-1777608000@tickets.nightaffairs-events.de
SUMMARY:Tanz in den Mai 90' edition
DESCRIPTION:Unsere legendäre Tanz in den Mai Party geht schon in die 9. Runde 🔥 Und auch in diesem Jahr wird es eine tolle Party im historischen CreativQuartier Fürst Leopold Dorsten in der Galerie der Traumfänger geben. Lasst Euch von den besten Sounds der 90er in den Mai tragen! \nDie größte Veranstaltung Dorstens um in den Mai zu tanzen! In der atemberaubenden Kulisse des ehemaligen Trafogebäudes\, welches jetzt die Galerie der Traumfänger beheimatet. Kunst und Feierkultur treffen aufeinander und bieten Euch den Rahmen für eine unvergessliche Nacht! \n// Sweets & Candys 🍭🍬🍡\n// Konfetti-Regen 🥳 \nEINLASS AB 21 JAHREN\nEINTRITT AB 21:00 UHR \n__________________________________________\nHOW TO BE A VIP?\nVIP-Einlass über Flaschenkäufe – hierbei gilt ein Mindestumsatz von 50\,00 € pro Person\, welcher ausschließlich mit Flaschenkäufen zu erzielen ist. Möglich ab drei Personen. Logen ab 15 Personen. Optional könnt ihr für Eure Gruppe unseren Shuttleservice buchen. \nEure VIP-Vorteile\nExklusiver VIP Bereich direkt über der Tanzfläche – sehen und gesehen werden geht nirgends besser!\nBevorzugter Service mit eigener Theke und eigener kostenloser Garderobe\nPremiumprodukte: von Champagner bis zu edlen Whiskys\nGrößere Gruppen mit Vorausbuchung brauchen nicht in der Schlange anstehen – ihr könnt über unseren separaten Eingang direkt in Eure Loge \nBuchung und weitere Informationen über info@nightaffairs-events.de
URL:https://tickets.nightaffairs-events.de/event/tanz-in-den-mai-90-edition-3/
LOCATION:CreativQuartier Fürst Leopold Dorsten\, Zechenstraße 1\, DE-46284 Dorsten\, Deutschland
ATTACH;FMTTYPE=image/png:https://tickets.nightaffairs-events.de/wp-content/uploads/2026/02/30.04.2025-scaled.png
ORGANIZER;CN="Nightaffairs Events & more":MAILTO:info@nightaffairs-events.de
END:VEVENT
END:VCALENDAR